BEGIN:VCALENDAR
PRODID:-//TERMINALFOUR//SITEMANAGER V8.1//EN
VERSION:2.1
TZ:+00
BEGIN:VEVENT
DTSTART:20260427T14:00:00 +0100
DTEND:20260427T15:00:00 +0100
LOCATION:UHI Inverness
1 Inverness Campus
Inverness
IV2 5NA
DESCRIPTION:
SUMMARY:Molecular control of the root angle in barley with Dr. Gwendolyn Kirschner (James Hutton Institute)
END:VEVENT
END:VCALENDAR